BEGIN:VCALENDAR
VERSION:2.0
PRODID:SchoolNow
CALSCALE:GREGORIAN
BEGIN:VEVENT
UID:9eec1e3a-c677-11f0-a510-0a58a9feac02
DTSTAMP:20260422T062509Z
SUMMARY:LP PTA Association Meeting
LOCATION:https://us02web.zoom.us/j/82608115941?pwd=V7ULGJbr0W2sz0ZzTyVBEQZx
 rMIwtV.1
URL;VALUE=URI:https://www.lahabraschools.org/laderapalma/calendar/8806459/l
 p-pta-association-meeting
DTSTART:20270224T033000Z
DTEND:20270224T043000Z
END:VEVENT
END:VCALENDAR
