BEGIN:VCALENDAR
VERSION:2.0
PRODID:SchoolNow
CALSCALE:GREGORIAN
BEGIN:VEVENT
UID:9eec1f2a-c677-11f0-850f-0a58a9feac02
DTSTAMP:20260422T123010Z
SUMMARY:LP PTA Association Meeting
LOCATION:https://us02web.zoom.us/j/82608115941?pwd=V7ULGJbr0W2sz0ZzTyVBEQZx
 rMIwtV.1
URL;VALUE=URI:https://www.lahabraschools.org/laderapalma/calendar/8806460/l
 p-pta-association-meeting
DTSTART:20270324T023000Z
DTEND:20270324T033000Z
END:VEVENT
END:VCALENDAR
