BEGIN:VCALENDAR
VERSION:2.0
PRODID:SchoolNow
CALSCALE:GREGORIAN
BEGIN:VEVENT
UID:9eec20ec-c677-11f0-8f14-0a58a9feac02
DTSTAMP:20260422T123010Z
SUMMARY:LP PTA Association Meeting
LOCATION:https://us02web.zoom.us/j/82608115941?pwd=V7ULGJbr0W2sz0ZzTyVBEQZx
 rMIwtV.1
URL;VALUE=URI:https://www.lahabraschools.org/laderapalma/calendar/8806462/l
 p-pta-association-meeting
DTSTART:20270526T023000Z
DTEND:20270526T033000Z
END:VEVENT
END:VCALENDAR
