BEGIN:VCALENDAR
VERSION:2.0
PRODID:SchoolNow
CALSCALE:GREGORIAN
BEGIN:VEVENT
UID:d796ba66-d567-11f0-a858-0a58a9feac02
DTSTAMP:20260421T121009Z
SUMMARY:Open House/Casa Abierta
URL;VALUE=URI:https://www.lahabraschools.org/laderapalma/calendar/8820914/o
 pen-house-casa-abierta
DTSTART:20260312T003000Z
DTEND:20260312T020000Z
END:VEVENT
END:VCALENDAR
