BEGIN:VCALENDAR
VERSION:2.0
PRODID:SchoolNow
CALSCALE:GREGORIAN
BEGIN:VEVENT
UID:d796bdc2-d567-11f0-897a-0a58a9feac02
DTSTAMP:20260421T181508Z
SUMMARY:Minimum Day- Día Minimo
URL;VALUE=URI:https://www.lahabraschools.org/laderapalma/calendar/8820915/m
 inimum-day-dia-minimo
DTSTART:20260130T163000Z
DTEND:20260130T210000Z
END:VEVENT
END:VCALENDAR
