BEGIN:VCALENDAR
VERSION:2.0
PRODID:SchoolNow
CALSCALE:GREGORIAN
BEGIN:VEVENT
UID:697139e2-ed9c-11f0-a395-0e1ec27bda65
DTSTAMP:20260421T181508Z
SUMMARY:Presidents' Day Birthday - NO SCHOOL
URL;VALUE=URI:https://www.lahabraschools.org/laderapalma/calendar/8833652/p
 residents-day-birthday-no-school
DTSTART;VALUE=DATE:20260216
DTEND;VALUE=DATE:20260217
END:VEVENT
END:VCALENDAR
