BEGIN:VCALENDAR
VERSION:2.0
PRODID:SchoolNow
CALSCALE:GREGORIAN
BEGIN:VEVENT
UID:6971416c-ed9c-11f0-a807-0e1ec27bda65
DTSTAMP:20260421T181508Z
SUMMARY:Junta de información para Programa de ID- 26-27- español
LOCATION:https://lahabraschools.zoom.us/j/8641743353?pwd=MDZ1WDd6SGlBVlN6aT
 h4eGdreGJLdz09&omn=84368196779
URL;VALUE=URI:https://www.lahabraschools.org/laderapalma/calendar/8833655/j
 unta-de-informacion-para-programa-de-id-26-27-espanol
DTSTART:20260116T020000Z
DTEND:20260116T030000Z
END:VEVENT
END:VCALENDAR
