BEGIN:VCALENDAR
VERSION:2.0
PRODID:SchoolNow
CALSCALE:GREGORIAN
BEGIN:VEVENT
UID:697142a2-ed9c-11f0-98ce-0e1ec27bda65
DTSTAMP:20260421T181508Z
SUMMARY:Junta de información para programa de ID para 26-27- español
LOCATION:https://lahabraschools.zoom.us/j/8641743353?pwd=MDZ1WDd6SGlBVlN6aT
 h4eGdreGJLdz09&omn=89099313973
URL;VALUE=URI:https://www.lahabraschools.org/laderapalma/calendar/8833656/j
 unta-de-informacion-para-programa-de-id-para-26-27-espanol
DTSTART:20260123T020000Z
DTEND:20260123T030000Z
END:VEVENT
END:VCALENDAR
