BEGIN:VCALENDAR
VERSION:2.0
PRODID:SchoolNow
CALSCALE:GREGORIAN
BEGIN:VEVENT
UID:697145d6-ed9c-11f0-a180-0e1ec27bda65
DTSTAMP:20260421T181508Z
SUMMARY:Lincoln's Birthday - NO SCHOOL
URL;VALUE=URI:https://www.lahabraschools.org/laderapalma/calendar/8833658/l
 incolns-birthday-no-school
DTSTART;VALUE=DATE:20260209
DTEND;VALUE=DATE:20260210
END:VEVENT
END:VCALENDAR
