BEGIN:VCALENDAR
VERSION:2.0
PRODID:SchoolNow
CALSCALE:GREGORIAN
BEGIN:VEVENT
UID:6971472a-ed9c-11f0-a148-0e1ec27bda65
DTSTAMP:20260421T181508Z
SUMMARY:Dragon Appreciation Day
URL;VALUE=URI:https://www.lahabraschools.org/laderapalma/calendar/8833659/d
 ragon-appreciation-day
DTSTART;VALUE=DATE:20260116
DTEND;VALUE=DATE:20260117
END:VEVENT
END:VCALENDAR
