BEGIN:VCALENDAR
VERSION:2.0
PRODID:SchoolNow
CALSCALE:GREGORIAN
BEGIN:VEVENT
UID:6971493c-ed9c-11f0-bc6f-0e1ec27bda65
DTSTAMP:20260421T181508Z
SUMMARY:6th Grade Science Camp - Irvine Ranch
URL;VALUE=URI:https://www.lahabraschools.org/laderapalma/calendar/8833661/6
 th-grade-science-camp-irvine-ranch
DTSTART:20260518T153000Z
DTEND:20260520T163000Z
END:VEVENT
END:VCALENDAR
