BEGIN:VCALENDAR
VERSION:2.0
PRODID:SchoolNow
CALSCALE:GREGORIAN
BEGIN:VEVENT
UID:69714a90-ed9c-11f0-9999-0e1ec27bda65
DTSTAMP:20260421T181508Z
SUMMARY:Mija Books - Spring Book Fair
URL;VALUE=URI:https://www.lahabraschools.org/laderapalma/calendar/8833662/m
 ija-books-spring-book-fair
DTSTART;VALUE=DATE:20260309
DTEND;VALUE=DATE:20260314
END:VEVENT
END:VCALENDAR
