BEGIN:VCALENDAR
VERSION:2.0
PRODID:SchoolNow
CALSCALE:GREGORIAN
BEGIN:VEVENT
UID:69714b76-ed9c-11f0-bbc1-0e1ec27bda65
DTSTAMP:20260421T181508Z
SUMMARY:Informational Meeting for DI Program- 26-27- English
LOCATION:https://lahabraschools.zoom.us/j/8641743353?pwd=MDZ1WDd6SGlBVlN6aT
 h4eGdreGJLdz09&omn=84380918277
URL;VALUE=URI:https://www.lahabraschools.org/laderapalma/calendar/8833663/i
 nformational-meeting-for-di-program-26-27-english
DTSTART:20260116T010000Z
DTEND:20260116T020000Z
END:VEVENT
END:VCALENDAR
