BEGIN:VCALENDAR
VERSION:2.0
PRODID:SchoolNow
CALSCALE:GREGORIAN
BEGIN:VEVENT
UID:6971501c-ed9c-11f0-807e-0e1ec27bda65
DTSTAMP:20260421T181508Z
SUMMARY:Information Meeting for DI Program- 26-27- English
LOCATION:https://lahabraschools.zoom.us/j/8641743353?pwd=MDZ1WDd6SGlBVlN6aT
 h4eGdreGJLdz09&omn=88921468731
URL;VALUE=URI:https://www.lahabraschools.org/laderapalma/calendar/8833664/i
 nformation-meeting-for-di-program-26-27-english
DTSTART:20260123T010000Z
DTEND:20260123T020000Z
END:VEVENT
END:VCALENDAR
