BEGIN:VCALENDAR
VERSION:2.0
PRODID:SchoolNow
CALSCALE:GREGORIAN
BEGIN:VEVENT
UID:6971515c-ed9c-11f0-9c6f-0e1ec27bda65
DTSTAMP:20260421T181508Z
SUMMARY:Read Across America
URL;VALUE=URI:https://www.lahabraschools.org/laderapalma/calendar/8833665/r
 ead-across-america
DTSTART;VALUE=DATE:20260302
DTEND;VALUE=DATE:20260307
ATTACH;FILENAME=Read Across America 2026.png;FMTTYPE=image/png:https://driv
 e.google.com/open?id=1RIc6uHFiDQRSznwsp8cX1Mr0j9nAuscL
END:VEVENT
END:VCALENDAR
