BEGIN:VCALENDAR
VERSION:2.0
PRODID:SchoolNow
CALSCALE:GREGORIAN
BEGIN:VEVENT
UID:6971524c-ed9c-11f0-9b72-0e1ec27bda65
DTSTAMP:20260421T181508Z
SUMMARY:NO SCHOOL - Martin Luther King Jr Birthday
URL;VALUE=URI:https://www.lahabraschools.org/laderapalma/calendar/8833666/n
 o-school-martin-luther-king-jr-birthday
DTSTART;VALUE=DATE:20260119
DTEND;VALUE=DATE:20260120
END:VEVENT
END:VCALENDAR
