BEGIN:VCALENDAR
VERSION:2.0
PRODID:SchoolNow
CALSCALE:GREGORIAN
BEGIN:VEVENT
UID:69715364-ed9c-11f0-a08e-0e1ec27bda65
DTSTAMP:20260421T181508Z
SUMMARY:Cafecito/ELAC
URL;VALUE=URI:https://www.lahabraschools.org/laderapalma/calendar/8833667/c
 afecito-elac
DTSTART:20260225T170000Z
DTEND:20260225T180000Z
END:VEVENT
END:VCALENDAR
