BEGIN:VCALENDAR
VERSION:2.0
PRODID:SchoolNow
CALSCALE:GREGORIAN
BEGIN:VEVENT
UID:69715490-ed9c-11f0-b7bc-0e1ec27bda65
DTSTAMP:20260421T181508Z
SUMMARY:Fiesta de Mayo
URL;VALUE=URI:https://www.lahabraschools.org/laderapalma/calendar/8833668/f
 iesta-de-mayo
DTSTART;VALUE=DATE:20260522
DTEND;VALUE=DATE:20260523
ATTACH;FILENAME=(Spanish).png;FMTTYPE=image/png:https://drive.google.com/op
 en?id=1Jafgp1-YLko77NsEREvbPon95AjRolyw
ATTACH;FILENAME=Fiesta de MayoDigitalEng.png;FMTTYPE=image/png:https://driv
 e.google.com/open?id=1Q1N3HyYcnojcvbVWW3svZ1u5SjJeVem5
END:VEVENT
END:VCALENDAR
