BEGIN:VCALENDAR
VERSION:2.0
PRODID:SchoolNow
CALSCALE:GREGORIAN
BEGIN:VEVENT
UID:69df909a-ed9c-11f0-ad8f-0e1ec27bda65
DTSTAMP:20260421T181508Z
SUMMARY:Ladera Fitness Club // Ladera Club de salud
URL;VALUE=URI:https://www.lahabraschools.org/laderapalma/calendar/8833685/l
 adera-fitness-club-ladera-club-de-salud
DTSTART:20260313T153000Z
DTEND:20260313T163000Z
ATTACH;FILENAME=FitnessEng.png;FMTTYPE=image/png:https://drive.google.com/o
 pen?id=1_7BOC34Uy8g4Af_rk_LaQ42uz3jCIkJM
ATTACH;FILENAME=FitnessSP.png;FMTTYPE=image/png:https://drive.google.com/op
 en?id=1l-DRoHTtjWNDjiMZQEnJNiMWwm6MdSKr
END:VEVENT
END:VCALENDAR
