BEGIN:VCALENDAR
VERSION:2.0
PRODID:SchoolNow
CALSCALE:GREGORIAN
BEGIN:VEVENT
UID:69df9b94-ed9c-11f0-9748-0e1ec27bda65
DTSTAMP:20260421T121009Z
SUMMARY:Active Parenting #6 - Active Parenting for School
URL;VALUE=URI:https://www.lahabraschools.org/laderapalma/calendar/8833694/a
 ctive-parenting-6-active-parenting-for-school
DTSTART:20260413T163000Z
DTEND:20260413T183000Z
ATTACH;FILENAME=Ladera Palma Academy March 2 AP English.pdf;FMTTYPE=applica
 tion/pdf:https://drive.google.com/open?id=1nxjFhtYKSU08HRZ3Er84qikPI4mHilT
 G
END:VEVENT
END:VCALENDAR
