BEGIN:VCALENDAR
VERSION:2.0
PRODID:SchoolNow
CALSCALE:GREGORIAN
BEGIN:VEVENT
UID:69dfa1d4-ed9c-11f0-932b-0e1ec27bda65
DTSTAMP:20260421T121009Z
SUMMARY:Active Parenting #3 - Responsibility & Discipline
URL;VALUE=URI:https://www.lahabraschools.org/laderapalma/calendar/8833699/a
 ctive-parenting-3-responsibility-discipline
DTSTART:20260323T163000Z
DTEND:20260323T183000Z
ATTACH;FILENAME=1.png;FMTTYPE=image/png:https://drive.google.com/open?id=1P
 jWnurp97lCOPY9qEM6mgN-x7ETvop8r
ATTACH;FILENAME=2.png;FMTTYPE=image/png:https://drive.google.com/open?id=1Y
 o6ohf_WurHMehVciXRS1liiKW06SqO7
END:VEVENT
END:VCALENDAR
