BEGIN:VCALENDAR
VERSION:2.0
PRODID:SchoolNow
CALSCALE:GREGORIAN
BEGIN:VEVENT
UID:13332f26-edcf-11f0-ad86-0affd4fb8897
DTSTAMP:20260421T181508Z
SUMMARY:Registration Kick-Off
LOCATION:La Habra City School District\, 500 N Walnut St\, La Habra\, CA 90
 631\, USA
URL;VALUE=URI:https://www.lahabraschools.org/laderapalma/calendar/8833991/r
 egistration-kick-off
DTSTART:20260115T020000Z
DTEND:20260115T030000Z
END:VEVENT
END:VCALENDAR
