BEGIN:VCALENDAR
VERSION:2.0
PRODID:SchoolNow
CALSCALE:GREGORIAN
BEGIN:VEVENT
UID:e24d6fda-f197-11f0-84a4-0affca6c986d
DTSTAMP:20260421T181508Z
SUMMARY:Glo Dance
URL;VALUE=URI:https://www.lahabraschools.org/laderapalma/calendar/8836471/g
 lo-dance
DTSTART:20260207T013000Z
DTEND:20260207T033000Z
END:VEVENT
END:VCALENDAR
