BEGIN:VCALENDAR
VERSION:2.0
PRODID:SchoolNow
CALSCALE:GREGORIAN
BEGIN:VEVENT
UID:a41eacde-f65f-11f0-a080-0a58a9feac02
DTSTAMP:20260421T121009Z
SUMMARY:Mathnasium - Math Night
URL;VALUE=URI:https://www.lahabraschools.org/laderapalma/calendar/8838472/m
 athnasium-math-night
DTSTART:20260411T003000Z
DTEND:20260411T023000Z
END:VEVENT
END:VCALENDAR
