BEGIN:VCALENDAR
VERSION:2.0
PRODID:SchoolNow
CALSCALE:GREGORIAN
BEGIN:VEVENT
UID:9422aa7c-f7c4-11f0-8165-0eaeb72c1f83
DTSTAMP:20260421T181508Z
SUMMARY:Internet Safety - The Nest
URL;VALUE=URI:https://www.lahabraschools.org/laderapalma/calendar/8839373/i
 nternet-safety-the-nest
DTSTART:20260212T180000Z
DTEND:20260212T190000Z
ATTACH;FILENAME=Flyer English.pdf;FMTTYPE=application/pdf:https://drive.goo
 gle.com/open?id=1L97WlzWcx6kYwJMKAiF0rfOEcI9zMEkj
END:VEVENT
END:VCALENDAR
