BEGIN:VCALENDAR
VERSION:2.0
PRODID:SchoolNow
CALSCALE:GREGORIAN
BEGIN:VEVENT
UID:51b4bafe-fcbf-11f0-ade6-0a58a9feac02
DTSTAMP:20260421T181508Z
SUMMARY:3rd Grade Field Trip/Paseo de 3er Grado
URL;VALUE=URI:https://www.lahabraschools.org/laderapalma/calendar/8846423/3
 rd-grade-field-trip-paseo-de-3er-grado
DTSTART:20260219T164500Z
DTEND:20260219T221500Z
END:VEVENT
END:VCALENDAR
