BEGIN:VCALENDAR
VERSION:2.0
PRODID:SchoolNow
CALSCALE:GREGORIAN
BEGIN:VEVENT
UID:51b4c076-fcbf-11f0-b263-0a58a9feac02
DTSTAMP:20260421T181508Z
SUMMARY:Minimum Day- Día Minimo
URL;VALUE=URI:https://www.lahabraschools.org/laderapalma/calendar/8846424/m
 inimum-day-dia-minimo
DTSTART:20260220T163000Z
DTEND:20260220T210000Z
END:VEVENT
END:VCALENDAR
