BEGIN:VCALENDAR
VERSION:2.0
PRODID:SchoolNow
CALSCALE:GREGORIAN
BEGIN:VEVENT
UID:3f6e7bd0-fe24-11f0-a756-0246f3739907
DTSTAMP:20260421T181508Z
SUMMARY:Virtual PTA Info Session
URL;VALUE=URI:https://www.lahabraschools.org/laderapalma/calendar/8847160/v
 irtual-pta-info-session
DTSTART:20260210T033000Z
DTEND:20260210T043000Z
END:VEVENT
END:VCALENDAR
