BEGIN:VCALENDAR
VERSION:2.0
PRODID:SchoolNow
CALSCALE:GREGORIAN
BEGIN:VEVENT
UID:4a6fa208-1110-11f1-bc03-02ed15bef57f
DTSTAMP:20260421T121009Z
SUMMARY:Paternidad Activa -
URL;VALUE=URI:https://www.lahabraschools.org/laderapalma/calendar/8867826/p
 aternidad-activa
DTSTART:20260325T160000Z
DTEND:20260325T180000Z
ATTACH;FILENAME=1.png;FMTTYPE=image/png:https://drive.google.com/open?id=1P
 jWnurp97lCOPY9qEM6mgN-x7ETvop8r
ATTACH;FILENAME=2.png;FMTTYPE=image/png:https://drive.google.com/open?id=1Y
 o6ohf_WurHMehVciXRS1liiKW06SqO7
END:VEVENT
END:VCALENDAR
