BEGIN:VCALENDAR
VERSION:2.0
PRODID:SchoolNow
CALSCALE:GREGORIAN
BEGIN:VEVENT
UID:20aba93e-1440-11f1-9448-0a58a9feac02
DTSTAMP:20260421T121009Z
SUMMARY:Science Camp Parent Meeting
URL;VALUE=URI:https://www.lahabraschools.org/laderapalma/calendar/8877300/s
 cience-camp-parent-meeting
DTSTART:20260401T230000Z
DTEND:20260402T000000Z
END:VEVENT
END:VCALENDAR
