BEGIN:VCALENDAR
VERSION:2.0
PRODID:SchoolNow
CALSCALE:GREGORIAN
BEGIN:VEVENT
UID:20abce82-1440-11f1-abda-0a58a9feac02
DTSTAMP:20260421T121009Z
SUMMARY:Science Camp Parent Meeting  -  Via ZOOM
LOCATION:https://lahabraschools.zoom.us/j/89043952666?pwd=rhkaZpKy8KI0712CE
 neEodmJfE5bOb.1&jst=3
URL;VALUE=URI:https://www.lahabraschools.org/laderapalma/calendar/8877301/s
 cience-camp-parent-meeting-via-zoom
DTSTART:20260409T000000Z
DTEND:20260409T010000Z
END:VEVENT
END:VCALENDAR
