BEGIN:VCALENDAR
VERSION:2.0
PRODID:SchoolNow
CALSCALE:GREGORIAN
BEGIN:VEVENT
UID:4d8f4cc2-384d-11f1-85d2-0a58a9feac02
DTSTAMP:20260421T121009Z
SUMMARY:PTA Board Meeting
URL;VALUE=URI:https://www.lahabraschools.org/laderapalma/calendar/8994065/p
 ta-board-meeting
DTSTART:20260513T030000Z
DTEND:20260513T034500Z
END:VEVENT
END:VCALENDAR
