BEGIN:VCALENDAR
VERSION:2.0
PRODID:SchoolNow
CALSCALE:GREGORIAN
BEGIN:VEVENT
UID:4d8f5032-384d-11f1-a29c-0a58a9feac02
DTSTAMP:20260421T181508Z
SUMMARY:PTA Board Meeting
URL;VALUE=URI:https://www.lahabraschools.org/laderapalma/calendar/8994067/p
 ta-board-meeting
DTSTART:20260715T030000Z
DTEND:20260715T034500Z
END:VEVENT
END:VCALENDAR
