BEGIN:VCALENDAR
VERSION:2.0
PRODID:SchoolNow
CALSCALE:GREGORIAN
BEGIN:VEVENT
UID:4d8f514a-384d-11f1-a84e-0a58a9feac02
DTSTAMP:20260421T181508Z
SUMMARY:PTA Board Meeting
URL;VALUE=URI:https://www.lahabraschools.org/laderapalma/calendar/8994068/p
 ta-board-meeting
DTSTART:20260812T030000Z
DTEND:20260812T034500Z
END:VEVENT
END:VCALENDAR
