BEGIN:VCALENDAR
VERSION:2.0
PRODID:SchoolNow
CALSCALE:GREGORIAN
BEGIN:VEVENT
UID:4d8f524e-384d-11f1-a71b-0a58a9feac02
DTSTAMP:20260422T002009Z
SUMMARY:PTA Board Meeting
URL;VALUE=URI:https://www.lahabraschools.org/laderapalma/calendar/8994069/p
 ta-board-meeting
DTSTART:20260909T030000Z
DTEND:20260909T034500Z
END:VEVENT
END:VCALENDAR
