BEGIN:VCALENDAR
VERSION:2.0
PRODID:SchoolNow
CALSCALE:GREGORIAN
BEGIN:VEVENT
UID:4d8f5352-384d-11f1-97e4-0a58a9feac02
DTSTAMP:20260422T002009Z
SUMMARY:PTA Board Meeting
URL;VALUE=URI:https://www.lahabraschools.org/laderapalma/calendar/8994070/p
 ta-board-meeting
DTSTART:20261014T030000Z
DTEND:20261014T034500Z
END:VEVENT
END:VCALENDAR
