BEGIN:VCALENDAR
VERSION:2.0
PRODID:SchoolNow
CALSCALE:GREGORIAN
BEGIN:VEVENT
UID:4d8f5456-384d-11f1-94ce-0a58a9feac02
DTSTAMP:20260422T002009Z
SUMMARY:PTA Board Meeting
URL;VALUE=URI:https://www.lahabraschools.org/laderapalma/calendar/8994071/p
 ta-board-meeting
DTSTART:20261111T040000Z
DTEND:20261111T044500Z
END:VEVENT
END:VCALENDAR
