BEGIN:VCALENDAR
VERSION:2.0
PRODID:SchoolNow
CALSCALE:GREGORIAN
BEGIN:VEVENT
UID:4d8f555a-384d-11f1-8a8a-0a58a9feac02
DTSTAMP:20260422T062509Z
SUMMARY:PTA Board Meeting
URL;VALUE=URI:https://www.lahabraschools.org/laderapalma/calendar/8994072/p
 ta-board-meeting
DTSTART:20261209T040000Z
DTEND:20261209T044500Z
END:VEVENT
END:VCALENDAR
