BEGIN:VCALENDAR
VERSION:2.0
PRODID:SchoolNow
CALSCALE:GREGORIAN
BEGIN:VEVENT
UID:4d8f5654-384d-11f1-b500-0a58a9feac02
DTSTAMP:20260422T062509Z
SUMMARY:PTA Board Meeting
URL;VALUE=URI:https://www.lahabraschools.org/laderapalma/calendar/8994073/p
 ta-board-meeting
DTSTART:20270113T040000Z
DTEND:20270113T044500Z
END:VEVENT
END:VCALENDAR
