BEGIN:VCALENDAR
VERSION:2.0
PRODID:SchoolNow
CALSCALE:GREGORIAN
BEGIN:VEVENT
UID:4d8f5848-384d-11f1-a53e-0a58a9feac02
DTSTAMP:20260422T123010Z
SUMMARY:PTA Board Meeting
URL;VALUE=URI:https://www.lahabraschools.org/laderapalma/calendar/8994075/p
 ta-board-meeting
DTSTART:20270310T040000Z
DTEND:20270310T044500Z
END:VEVENT
END:VCALENDAR
