BEGIN:VCALENDAR
VERSION:2.0
PRODID:SchoolNow
CALSCALE:GREGORIAN
BEGIN:VEVENT
UID:4d8fcd82-384d-11f1-ac01-0a58a9feac02
DTSTAMP:20260422T123010Z
SUMMARY:PTA Board Meeting
URL;VALUE=URI:https://www.lahabraschools.org/laderapalma/calendar/8994077/p
 ta-board-meeting
DTSTART:20270512T030000Z
DTEND:20270512T034500Z
END:VEVENT
END:VCALENDAR
