BEGIN:VCALENDAR
VERSION:2.0
PRODID:SchoolNow
CALSCALE:GREGORIAN
BEGIN:VEVENT
UID:4d8fcec2-384d-11f1-b5c4-0a58a9feac02
DTSTAMP:20260422T123010Z
SUMMARY:PTA Board Meeting
URL;VALUE=URI:https://www.lahabraschools.org/laderapalma/calendar/8994078/p
 ta-board-meeting
DTSTART:20270609T030000Z
DTEND:20270609T034500Z
END:VEVENT
END:VCALENDAR
