BEGIN:VCALENDAR
VERSION:2.0
PRODID:SchoolNow
CALSCALE:GREGORIAN
BEGIN:VEVENT
UID:4e08ae32-384d-11f1-9586-0a58a9feac02
DTSTAMP:20260421T181508Z
SUMMARY:PTA Board Meeting
URL;VALUE=URI:https://www.lahabraschools.org/laderapalma/calendar/8994087/p
 ta-board-meeting
DTSTART:20260812T023000Z
DTEND:20260812T031500Z
END:VEVENT
END:VCALENDAR
