BEGIN:VCALENDAR
VERSION:2.0
PRODID:SchoolNow
CALSCALE:GREGORIAN
BEGIN:VEVENT
UID:4e08af36-384d-11f1-b8e3-0a58a9feac02
DTSTAMP:20260422T002008Z
SUMMARY:PTA Board Meeting
URL;VALUE=URI:https://www.lahabraschools.org/laderapalma/calendar/8994088/p
 ta-board-meeting
DTSTART:20260909T023000Z
DTEND:20260909T031500Z
END:VEVENT
END:VCALENDAR
