BEGIN:VCALENDAR
VERSION:2.0
PRODID:SchoolNow
CALSCALE:GREGORIAN
BEGIN:VEVENT
UID:4e08b116-384d-11f1-95d3-0a58a9feac02
DTSTAMP:20260422T002008Z
SUMMARY:PTA Board Meeting
URL;VALUE=URI:https://www.lahabraschools.org/laderapalma/calendar/8994090/p
 ta-board-meeting
DTSTART:20261111T033000Z
DTEND:20261111T041500Z
END:VEVENT
END:VCALENDAR
