BEGIN:VCALENDAR
VERSION:2.0
PRODID:SchoolNow
CALSCALE:GREGORIAN
BEGIN:VEVENT
UID:4e08b206-384d-11f1-98c3-0a58a9feac02
DTSTAMP:20260422T062509Z
SUMMARY:PTA Board Meeting
URL;VALUE=URI:https://www.lahabraschools.org/laderapalma/calendar/8994091/p
 ta-board-meeting
DTSTART:20261209T033000Z
DTEND:20261209T041500Z
END:VEVENT
END:VCALENDAR
