BEGIN:VCALENDAR
VERSION:2.0
PRODID:SchoolNow
CALSCALE:GREGORIAN
BEGIN:VEVENT
UID:4e08b3dc-384d-11f1-b960-0a58a9feac02
DTSTAMP:20260422T062509Z
SUMMARY:PTA Board Meeting
URL;VALUE=URI:https://www.lahabraschools.org/laderapalma/calendar/8994093/p
 ta-board-meeting
DTSTART:20270210T033000Z
DTEND:20270210T041500Z
END:VEVENT
END:VCALENDAR
