BEGIN:VCALENDAR
VERSION:2.0
PRODID:SchoolNow
CALSCALE:GREGORIAN
BEGIN:VEVENT
UID:4e08b4d6-384d-11f1-b001-0a58a9feac02
DTSTAMP:20260422T123010Z
SUMMARY:PTA Board Meeting
URL;VALUE=URI:https://www.lahabraschools.org/laderapalma/calendar/8994094/p
 ta-board-meeting
DTSTART:20270310T033000Z
DTEND:20270310T041500Z
END:VEVENT
END:VCALENDAR
