BEGIN:VCALENDAR
VERSION:2.0
PRODID:SchoolNow
CALSCALE:GREGORIAN
BEGIN:VEVENT
UID:4e08b698-384d-11f1-9415-0a58a9feac02
DTSTAMP:20260422T123010Z
SUMMARY:PTA Board Meeting
URL;VALUE=URI:https://www.lahabraschools.org/laderapalma/calendar/8994096/p
 ta-board-meeting
DTSTART:20270512T023000Z
DTEND:20270512T031500Z
END:VEVENT
END:VCALENDAR
