BEGIN:VCALENDAR
VERSION:2.0
PRODID:SchoolNow
CALSCALE:GREGORIAN
BEGIN:VEVENT
UID:4e08b85a-384d-11f1-bad3-0a58a9feac02
DTSTAMP:20260422T183509Z
SUMMARY:PTA Board Meeting
URL;VALUE=URI:https://www.lahabraschools.org/laderapalma/calendar/8994098/p
 ta-board-meeting
DTSTART:20270714T023000Z
DTEND:20270714T031500Z
END:VEVENT
END:VCALENDAR
